BEGIN:VCALENDAR
VERSION:2.0
PRODID:-//Posh - ECPv6.15.15//NONSGML v1.0//EN
CALSCALE:GREGORIAN
METHOD:PUBLISH
X-WR-CALNAME:Posh
X-ORIGINAL-URL:https://poshandpearlstudio.com
X-WR-CALDESC:Events for Posh
REFRESH-INTERVAL;VALUE=DURATION:PT1H
X-Robots-Tag:noindex
X-PUBLISHED-TTL:PT1H
BEGIN:VTIMEZONE
TZID:America/New_York
BEGIN:DAYLIGHT
TZOFFSETFROM:-0500
TZOFFSETTO:-0400
TZNAME:EDT
DTSTART:20240310T070000
END:DAYLIGHT
BEGIN:STANDARD
TZOFFSETFROM:-0400
TZOFFSETTO:-0500
TZNAME:EST
DTSTART:20241103T060000
END:STANDARD
BEGIN:DAYLIGHT
TZOFFSETFROM:-0500
TZOFFSETTO:-0400
TZNAME:EDT
DTSTART:20250309T070000
END:DAYLIGHT
BEGIN:STANDARD
TZOFFSETFROM:-0400
TZOFFSETTO:-0500
TZNAME:EST
DTSTART:20251102T060000
END:STANDARD
BEGIN:DAYLIGHT
TZOFFSETFROM:-0500
TZOFFSETTO:-0400
TZNAME:EDT
DTSTART:20260308T070000
END:DAYLIGHT
BEGIN:STANDARD
TZOFFSETFROM:-0400
TZOFFSETTO:-0500
TZNAME:EST
DTSTART:20261101T060000
END:STANDARD
END:VTIMEZONE
BEGIN:VTIMEZONE
TZID:UTC
BEGIN:STANDARD
TZOFFSETFROM:+0000
TZOFFSETTO:+0000
TZNAME:UTC
DTSTART:20230101T000000
END:STANDARD
END:VTIMEZONE
BEGIN:VEVENT
DTSTART;TZID=America/New_York:20250717T103000
DTEND;TZID=America/New_York:20250717T113000
DTSTAMP:20260420T033157
CREATED:20250712T065150Z
LAST-MODIFIED:20250712T070208Z
UID:1829-1752748200-1752751800@poshandpearlstudio.com
SUMMARY:Stacked & Styled - Thursday
DESCRIPTION:✨ Bracelet-Making Workshop ✨ \nYour mini fashionista is invited to create her own collection of chic\, summer-ready bracelets at our stylish beading experience. In this hands-on workshop\, each guest will design up to 8 custom bracelets using colorful beads\, charms\, and glam accents to match her unique flair. \nFrom bold and playful to sweet and sparkly\, it’s the perfect way to craft a personal stack she’ll be proud to wear all season long. \n💖 Boutique beading bar included📸 Picture-perfect moment for her wristwear debut!
URL:https://poshandpearlstudio.com/event/stacked-styled-thursday/
LOCATION:Posh & Pearl Studio\, 450 Amwell Rd\, Suite 12\, Hillsborough\, NJ\, 08844\, United States
CATEGORIES:Summer
END:VEVENT
BEGIN:VEVENT
DTSTART;TZID=America/New_York:20250712T110000
DTEND;TZID=America/New_York:20250712T120000
DTSTAMP:20260420T033157
CREATED:20250711T062226Z
LAST-MODIFIED:20250711T064304Z
UID:1817-1752318000-1752321600@poshandpearlstudio.com
SUMMARY:Deck Out a Donut
DESCRIPTION:🍩 Deck Out a Donut at Posh & Pearl Studio 🍩 \nA sprinkle-filled workshop that’s as creative as it is sweet! \nGuests will roll up their sleeves for a trio of donut-themed fun\, including:– Decorating pool noodle donuts with “frosting” and sprinkles– Designing their own donut magnets to take home– And\, of course\, decorating real donuts with frosting and toppings\, and then enjoying their tasty creations! \nThis hands-on workshop is perfect for creative kids with a sweet tooth and a love for all things colorful and fun.
URL:https://poshandpearlstudio.com/event/deck-out-a-donut-2/
LOCATION:Posh & Pearl Studio\, 450 Amwell Rd\, Suite 12\, Hillsborough\, NJ\, 08844\, United States
CATEGORIES:Summer
END:VEVENT
BEGIN:VEVENT
DTSTART;TZID=America/New_York:20250710T130000
DTEND;TZID=America/New_York:20250710T140000
DTSTAMP:20260420T033157
CREATED:20250708T064015Z
LAST-MODIFIED:20250708T064015Z
UID:1794-1752152400-1752156000@poshandpearlstudio.com
SUMMARY:Deck Out a Donut
DESCRIPTION:🍩 Deck Out a Donut at Posh & Pearl Studio 🍩 \nA sprinkle-filled workshop that’s as creative as it is sweet! \nGuests will roll up their sleeves for a trio of donut-themed fun\, including:– Decorating pool noodle donuts with “frosting” and sprinkles– Designing their own donut magnets to take home– And\, of course\, decorating real donuts with frosting and toppings\, and then enjoying their tasty creations! \nThis hands-on workshop is perfect for creative kids with a sweet tooth and a love for all things colorful and fun.
URL:https://poshandpearlstudio.com/event/deck-out-a-donut/
LOCATION:Posh & Pearl Studio\, 450 Amwell Rd\, Suite 12\, Hillsborough\, NJ\, 08844\, United States
CATEGORIES:Summer
END:VEVENT
BEGIN:VEVENT
DTSTART;TZID=UTC:20250703T103000
DTEND;TZID=UTC:20250703T120000
DTSTAMP:20260420T033157
CREATED:20250627T050739Z
LAST-MODIFIED:20250627T050739Z
UID:1751-1751538600-1751544000@poshandpearlstudio.com
SUMMARY:Floral & Freedom Fest
DESCRIPTION:🌸 Floral & Freedom Fest 🌸 \nCelebrate the day before the Fourth with a fun-filled morning of creativity\, color\, and patriotic charm! Kids will enjoy two unique activities that blend creativity\, color and Fourth of July fun! \n🌼 Paint-a-Jar & Pick-Your-Own Flowers: Kids will decorate a mason jar vase\, then fill it with fresh blooms they get to handpick and take home! \n🪨 Star-Spangled Stones: They’ll design and decorate festive red\, white\, and blue rocks\, perfect for garden décor or a keepsake.
URL:https://poshandpearlstudio.com/event/floral-freedom-fest/
LOCATION:Posh & Pearl Studio\, 450 Amwell Rd\, Suite 12\, Hillsborough\, NJ\, 08844\, United States
CATEGORIES:Independence Day
END:VEVENT
BEGIN:VEVENT
DTSTART;TZID=America/New_York:20250702T103000
DTEND;TZID=America/New_York:20250702T120000
DTSTAMP:20260420T033157
CREATED:20250627T050841Z
LAST-MODIFIED:20250627T050841Z
UID:1746-1751452200-1751457600@poshandpearlstudio.com
SUMMARY:Star Spangled Fun
DESCRIPTION:🇺🇸 Star-Spangled Fun at Posh & Pearl Studio 🇺🇸 \nGet ready for a day full of red\, white\, and blue creativity! Kids will enjoy two festive and hands-on craft activities that celebrate the spirit of Independence Day. \n🖌️ Independence Day Canvas Painting: where each child will create their own patriotic masterpiece on canvas to take home and proudly display. \n🇺🇸 Popsicle Stick Button Flag Craft: using colorful buttons and popsicle sticks to design a one-of-a-kind American flag to show off their creative spark. \nIt’s the perfect mix of art and celebration—just in time for the 4th!
URL:https://poshandpearlstudio.com/event/star-spangled-fun/
LOCATION:Posh & Pearl Studio\, 450 Amwell Rd\, Suite 12\, Hillsborough\, NJ\, 08844\, United States
CATEGORIES:Independence Day
END:VEVENT
BEGIN:VEVENT
DTSTART;TZID=America/New_York:20250701T103000
DTEND;TZID=America/New_York:20250701T120000
DTSTAMP:20260420T033157
CREATED:20250627T050958Z
LAST-MODIFIED:20250627T050958Z
UID:1736-1751365800-1751371200@poshandpearlstudio.com
SUMMARY:Red\, White & Bling Day
DESCRIPTION:🇺🇸 Kick off July with sparkle\, creativity\, and red-white-and-blue fun! Enjoy two hands-on activities filled with patriotic flair: \nRed\, White & Bling Jewelry Making – Kids will create their own festive bracelets and accessories using colorful beads\, charms\, and lots of sparkle. \nFuse Bead Coaster Creations – They’ll design a custom coaster using bright fuse beads. Perfect for cooling down those summer drinks.
URL:https://poshandpearlstudio.com/event/red-white-bling-day/
LOCATION:Posh & Pearl Studio\, 450 Amwell Rd\, Suite 12\, Hillsborough\, NJ\, 08844\, United States
CATEGORIES:Independence Day
END:VEVENT
BEGIN:VEVENT
DTSTART;TZID=America/New_York:20250419T110000
DTEND;TZID=America/New_York:20250419T120000
DTSTAMP:20260420T033157
CREATED:20250415T012946Z
LAST-MODIFIED:20250626T210622Z
UID:1693-1745060400-1745064000@poshandpearlstudio.com
SUMMARY:Spring Fling: Bonnets & Bling
DESCRIPTION:Let your little fashionistas design their very own fabulous Easter bonnet — complete with flowers\, pearls\, ribbons\, and sparkle! It’s a day of creativity\, spring vibes\, and girly glam — perfect for your stylish little one to shine.
URL:https://poshandpearlstudio.com/event/spring-fling-bonnets-bling/
LOCATION:NJ
CATEGORIES:Easter
END:VEVENT
BEGIN:VEVENT
DTSTART;TZID=America/New_York:20250418T110000
DTEND;TZID=America/New_York:20250418T120000
DTSTAMP:20260420T033157
CREATED:20250415T012913Z
LAST-MODIFIED:20250626T210635Z
UID:1690-1744974000-1744977600@poshandpearlstudio.com
SUMMARY:Egg-cellent Elegance: Garland Workshop
DESCRIPTION:Join us for a glam Easter crafting experience where kids will design their very own sparkling egg garland — perfect for hanging in bedrooms\, playrooms\, or on the mantel! \nUsing pearls\, satin ribbons\, and floral embellishments\, each child will create a one-of-a-kind springtime masterpiece to take home and show off.
URL:https://poshandpearlstudio.com/event/egg-cellent-elegance-garland-workshop/
LOCATION:NJ
CATEGORIES:Easter
END:VEVENT
BEGIN:VEVENT
DTSTART;TZID=America/New_York:20250316T110000
DTEND;TZID=America/New_York:20250316T120000
DTSTAMP:20260420T033157
CREATED:20250308T011945Z
LAST-MODIFIED:20250308T011945Z
UID:1634-1742122800-1742126400@poshandpearlstudio.com
SUMMARY:St Paddy's Day Fun
DESCRIPTION:🍀 St. Patrick’s Day Fun at Posh & Pearl Studio! 🍀 \n✨ Calling all little leprechauns! Join us for a fun and creative experience where kids will create their own Lucky Charm Bracelet\, Lucky Charm Sugar Scrub\, and Golden Glitter Lip Gloss! ✨ \nLet your little ones celebrate St. Patrick’s Day in style with hands-on activities they’ll love!
URL:https://poshandpearlstudio.com/event/st-paddys-day-fun-3/
LOCATION:NJ
CATEGORIES:St Paddy's Day
END:VEVENT
BEGIN:VEVENT
DTSTART;TZID=America/New_York:20250315T110000
DTEND;TZID=America/New_York:20250315T120000
DTSTAMP:20260420T033157
CREATED:20250308T011704Z
LAST-MODIFIED:20250308T012101Z
UID:1631-1742036400-1742040000@poshandpearlstudio.com
SUMMARY:St Paddy's Day Fun
DESCRIPTION:🍀 St. Patrick’s Day Fun at Posh & Pearl Studio! 🍀 \n✨ Calling all little leprechauns! Join us for a fun and creative experience where kids will create their own Lucky Charm Bracelet\, Lucky Charm Sugar Scrub\, and Golden Glitter Lip Gloss! ✨ \nLet your little ones celebrate St. Patrick’s Day in style with hands-on activities they’ll love!
URL:https://poshandpearlstudio.com/event/st-paddys-day-fun-2/
LOCATION:NJ
CATEGORIES:St Paddy's Day
END:VEVENT
BEGIN:VEVENT
DTSTART;TZID=America/New_York:20250314T170000
DTEND;TZID=America/New_York:20250314T180000
DTSTAMP:20260420T033157
CREATED:20250308T005315Z
LAST-MODIFIED:20250308T011113Z
UID:1570-1741971600-1741975200@poshandpearlstudio.com
SUMMARY:St Paddy's Day Fun
DESCRIPTION:🍀 St. Patrick’s Day Fun at Posh & Pearl Studio! 🍀 \n✨ Calling all little leprechauns! Join us for a fun and creative experience where kids will create their own Lucky Charm Bracelet\, Lucky Charm Sugar Scrub\, and Golden Glitter Lip Gloss! ✨ \nLet your little ones celebrate St. Patrick’s Day in style with hands-on activities they’ll love!
URL:https://poshandpearlstudio.com/event/st-paddys-day-fun/
LOCATION:NJ
CATEGORIES:St Paddy's Day
END:VEVENT
BEGIN:VEVENT
DTSTART;VALUE=DATE:20241227
DTEND;VALUE=DATE:20250129
DTSTAMP:20260420T033157
CREATED:20241126T181920Z
LAST-MODIFIED:20250306T084217Z
UID:757-1735257600-1738108799@poshandpearlstudio.com
SUMMARY:Workshops 03
DESCRIPTION:Check back soon!
URL:https://poshandpearlstudio.com/event/workshops-03/
LOCATION:NJ
CATEGORIES:Event 03
ATTACH;FMTTYPE=image/png:https://poshandpearlstudio.com/wp-content/uploads/2024/11/Group-1171274894-2.png
END:VEVENT
BEGIN:VEVENT
DTSTART;VALUE=DATE:20241214
DTEND;VALUE=DATE:20241215
DTSTAMP:20260420T033157
CREATED:20241126T181522Z
LAST-MODIFIED:20250306T084200Z
UID:751-1734134400-1734220799@poshandpearlstudio.com
SUMMARY:Workshops 01
DESCRIPTION:Check back soon!
URL:https://poshandpearlstudio.com/event/workshops-01/
LOCATION:NJ
CATEGORIES:Event 1
ATTACH;FMTTYPE=image/png:https://poshandpearlstudio.com/wp-content/uploads/2024/11/Group-1171274893-1.png
END:VEVENT
BEGIN:VEVENT
DTSTART;VALUE=DATE:20241118
DTEND;VALUE=DATE:20241201
DTSTAMP:20260420T033157
CREATED:20241126T181738Z
LAST-MODIFIED:20250306T084243Z
UID:755-1731888000-1733011199@poshandpearlstudio.com
SUMMARY:Workshops 02
DESCRIPTION:Check back soon!
URL:https://poshandpearlstudio.com/event/workshops-02/
LOCATION:NJ
CATEGORIES:Event 2
ATTACH;FMTTYPE=image/png:https://poshandpearlstudio.com/wp-content/uploads/2024/11/Group-1171274894-1-1.png
END:VEVENT
END:VCALENDAR