BEGIN:VCALENDAR
VERSION:2.0
PRODID:-//Posh - ECPv6.15.15//NONSGML v1.0//EN
CALSCALE:GREGORIAN
METHOD:PUBLISH
X-ORIGINAL-URL:https://poshandpearlstudio.com
X-WR-CALDESC:Events for Posh
REFRESH-INTERVAL;VALUE=DURATION:PT1H
X-Robots-Tag:noindex
X-PUBLISHED-TTL:PT1H
BEGIN:VTIMEZONE
TZID:America/New_York
BEGIN:DAYLIGHT
TZOFFSETFROM:-0500
TZOFFSETTO:-0400
TZNAME:EDT
DTSTART:20240310T070000
END:DAYLIGHT
BEGIN:STANDARD
TZOFFSETFROM:-0400
TZOFFSETTO:-0500
TZNAME:EST
DTSTART:20241103T060000
END:STANDARD
BEGIN:DAYLIGHT
TZOFFSETFROM:-0500
TZOFFSETTO:-0400
TZNAME:EDT
DTSTART:20250309T070000
END:DAYLIGHT
BEGIN:STANDARD
TZOFFSETFROM:-0400
TZOFFSETTO:-0500
TZNAME:EST
DTSTART:20251102T060000
END:STANDARD
BEGIN:DAYLIGHT
TZOFFSETFROM:-0500
TZOFFSETTO:-0400
TZNAME:EDT
DTSTART:20260308T070000
END:DAYLIGHT
BEGIN:STANDARD
TZOFFSETFROM:-0400
TZOFFSETTO:-0500
TZNAME:EST
DTSTART:20261101T060000
END:STANDARD
BEGIN:DAYLIGHT
TZOFFSETFROM:-0500
TZOFFSETTO:-0400
TZNAME:EDT
DTSTART:20270314T070000
END:DAYLIGHT
BEGIN:STANDARD
TZOFFSETFROM:-0400
TZOFFSETTO:-0500
TZNAME:EST
DTSTART:20271107T060000
END:STANDARD
END:VTIMEZONE
BEGIN:VEVENT
DTSTART;TZID=America/New_York:20250726T100000
DTEND;TZID=America/New_York:20250726T110000
DTSTAMP:20260420T035759
CREATED:20250721T061343Z
LAST-MODIFIED:20250721T063131Z
UID:1882-1753524000-1753527600@poshandpearlstudio.com
SUMMARY:Unicorn Spa Day - July 26
DESCRIPTION:🦄 Unicorn Spa Day at Posh & Pearl Studio 🦄 \nA magical self-care experience with a colorful twist! \nDuring this whimsical workshop\, guests will:– Make their own Unicorn Sugar Scrub– Enjoy a Unicorn-colored manicure– Relax with a Unicorn face mask– And more surprise spa-inspired fun!
URL:https://poshandpearlstudio.com/event/unicorn-spa-day-july-26/
LOCATION:Posh & Pearl Studio\, 450 Amwell Rd\, Suite 12\, Hillsborough\, NJ\, 08844\, United States
CATEGORIES:Summer
END:VEVENT
BEGIN:VEVENT
DTSTART;TZID=America/New_York:20250812T123000
DTEND;TZID=America/New_York:20250812T133000
DTSTAMP:20260420T035759
CREATED:20250811T062953Z
LAST-MODIFIED:20250811T063155Z
UID:1916-1755001800-1755005400@poshandpearlstudio.com
SUMMARY:Deck Out a Donut
DESCRIPTION:🍩 Deck Out a Donut at Posh & Pearl Studio 🍩 \nA sprinkle-filled workshop that’s as creative as it is sweet! \nGuests will roll up their sleeves for a trio of donut-themed fun\, including:– Decorating pool noodle donuts with “frosting” and sprinkles– Designing their own donut magnets to take home– And\, of course\, decorating real donuts with frosting and toppings\, and then enjoying their tasty creations! \nThis hands-on workshop is perfect for creative kids with a sweet tooth and a love for all things colorful and fun.
URL:https://poshandpearlstudio.com/event/deck-out-a-donut-3/
LOCATION:Posh & Pearl Studio\, 450 Amwell Rd\, Suite 12\, Hillsborough\, NJ\, 08844\, United States
CATEGORIES:Summer
END:VEVENT
BEGIN:VEVENT
DTSTART;TZID=America/New_York:20250814T123000
DTEND;TZID=America/New_York:20250814T133000
DTSTAMP:20260420T035759
CREATED:20250812T014717Z
LAST-MODIFIED:20250812T014717Z
UID:1926-1755174600-1755178200@poshandpearlstudio.com
SUMMARY:Seaside Creations
DESCRIPTION:Bring the beauty of the beach to life in this hands-on art experience! In our Seaside Creations Workshop\, kids will design their own sand canvas\, decorating it with seashells\, shimmering accents\, and coastal-inspired touches. Each masterpiece will be a one-of-a-kind keepsake they can treasure forever. Perfect for ages 4 – 11\, this workshop blends creativity\, relaxation\, and a touch of seaside magic.
URL:https://poshandpearlstudio.com/event/seaside-creations/
LOCATION:Posh & Pearl Studio\, 450 Amwell Rd\, Suite 12\, Hillsborough\, NJ\, 08844\, United States
CATEGORIES:Summer
END:VEVENT
BEGIN:VEVENT
DTSTART;TZID=America/New_York:20250819T123000
DTEND;TZID=America/New_York:20250819T133000
DTSTAMP:20260420T035759
CREATED:20250815T033215Z
LAST-MODIFIED:20250815T033215Z
UID:1948-1755606600-1755610200@poshandpearlstudio.com
SUMMARY:Cupcake Decorating Workshop
DESCRIPTION:Get ready for a sprinkle-filled afternoon at Posh & Pearl Studio! In this hands-on workshop\, kids will bring their creativity to life by designing a 3D cupcake masterpiece on canvas using colorful puff paint. Once their art is complete\, they’ll decorate a real cupcake with frosting\, sprinkles\, and toppings. It’s the sweetest way to combine creativity and delicious fun.
URL:https://poshandpearlstudio.com/event/cupcake-decorating-workshop/
LOCATION:Posh & Pearl Studio\, 450 Amwell Rd\, Suite 12\, Hillsborough\, NJ\, 08844\, United States
CATEGORIES:Summer
END:VEVENT
BEGIN:VEVENT
DTSTART;TZID=America/New_York:20250820T123000
DTEND;TZID=America/New_York:20250820T133000
DTSTAMP:20260420T035759
CREATED:20250815T033145Z
LAST-MODIFIED:20250815T033145Z
UID:1951-1755693000-1755696600@poshandpearlstudio.com
SUMMARY:Tea Party with My Friends
DESCRIPTION:Step into a world of charm at our delightful tea party experience! Guests will gather around a beautifully set table with real teacups\, dainty treats\, and “tea.” After enjoying their tea time\, each guest will paint a themed canvas to take home as a keepsake. It’s the perfect blend of creativity\, friendship\, and fancy fun
URL:https://poshandpearlstudio.com/event/tea-party-with-my-friends/
LOCATION:Posh & Pearl Studio\, 450 Amwell Rd\, Suite 12\, Hillsborough\, NJ\, 08844\, United States
CATEGORIES:Summer
END:VEVENT
BEGIN:VEVENT
DTSTART;TZID=America/New_York:20250822T123000
DTEND;TZID=America/New_York:20250822T133000
DTSTAMP:20260420T035759
CREATED:20250815T033114Z
LAST-MODIFIED:20250815T033114Z
UID:1955-1755865800-1755869400@poshandpearlstudio.com
SUMMARY:Seaside Creations
DESCRIPTION:Bring the beauty of the beach to life in this hands-on art experience! In our Seaside Creations Workshop\, kids will design their own sand canvas\, decorating it with seashells\, shimmering accents\, and coastal-inspired touches. Each masterpiece will be a one-of-a-kind keepsake they can treasure forever. Perfect for ages 4 – 11\, this workshop blends creativity\, relaxation\, and a touch of seaside magic.
URL:https://poshandpearlstudio.com/event/seaside-creations-2/
LOCATION:Posh & Pearl Studio\, 450 Amwell Rd\, Suite 12\, Hillsborough\, NJ\, 08844\, United States
CATEGORIES:Summer
END:VEVENT
BEGIN:VEVENT
DTSTART;TZID=America/New_York:20250827T113000
DTEND;TZID=America/New_York:20250827T123000
DTSTAMP:20260420T035759
CREATED:20250825T000909Z
LAST-MODIFIED:20250827T113333Z
UID:1974-1756294200-1756297800@poshandpearlstudio.com
SUMMARY:Back to School Workshop
DESCRIPTION:Get ready for a creative start to the school year! At our Back to School Workshop\, kids ages 4-11 will enjoy a fun\, hands-on crafting experience that gets them excited for the classroom. \nActivities include: \n\nDesigning and creating their own bag charms to hang on their backpacks.\nDecorating a pencil holder to brighten their desk at home or school.\n\nEach child will leave with personalized school essentials they can use and show off with pride!
URL:https://poshandpearlstudio.com/event/back-to-school-workshop/
LOCATION:Posh & Pearl Studio\, 450 Amwell Rd\, Suite 12\, Hillsborough\, NJ\, 08844\, United States
CATEGORIES:Summer
END:VEVENT
BEGIN:VEVENT
DTSTART;TZID=America/New_York:20251011T110000
DTEND;TZID=America/New_York:20251011T130000
DTSTAMP:20260420T035759
CREATED:20250911T015534Z
LAST-MODIFIED:20250911T015534Z
UID:2030-1760180400-1760187600@poshandpearlstudio.com
SUMMARY:Kids Diwali Fest - October 11
DESCRIPTION:🌟 Kids Diwali Fest 🌟 \nCelebrate the Festival of Lights with us! Children will enjoy hands-on crafts\, festive activities\, and cultural fun designed to capture the joy of Diwali. Join us for a magical afternoon filled with creativity\, tradition\, and celebration.
URL:https://poshandpearlstudio.com/event/kids-diwali-fest-october-11/
LOCATION:Posh & Pearl Studio\, 450 Amwell Rd\, Suite 12\, Hillsborough\, NJ\, 08844\, United States
END:VEVENT
BEGIN:VEVENT
DTSTART;TZID=America/New_York:20251011T110000
DTEND;TZID=America/New_York:20251011T130000
DTSTAMP:20260420T035759
CREATED:20251011T133911Z
LAST-MODIFIED:20251011T133911Z
UID:2104-1760180400-1760187600@poshandpearlstudio.com
SUMMARY:Diwali Workshop - Oct 11\, 2025
DESCRIPTION:Content is protected.
URL:https://poshandpearlstudio.com/event/diwali-workshop-oct-11-2025/
LOCATION:NJ
END:VEVENT
BEGIN:VEVENT
DTSTART;TZID=America/New_York:20251012T110000
DTEND;TZID=America/New_York:20251012T130000
DTSTAMP:20260420T035759
CREATED:20250911T015642Z
LAST-MODIFIED:20250911T015642Z
UID:2033-1760266800-1760274000@poshandpearlstudio.com
SUMMARY:Kids Diwali Fest - October 12
DESCRIPTION:🌟 Kids Diwali Fest 🌟 \nCelebrate the Festival of Lights with us! Children will enjoy hands-on crafts\, festive activities\, and cultural fun designed to capture the joy of Diwali. Join us for a magical afternoon filled with creativity\, tradition\, and celebration.
URL:https://poshandpearlstudio.com/event/kids-diwali-fest-october-12/
LOCATION:Posh & Pearl Studio\, 450 Amwell Rd\, Suite 12\, Hillsborough\, NJ\, 08844\, United States
END:VEVENT
BEGIN:VEVENT
DTSTART;TZID=America/New_York:20251104T130000
DTEND;TZID=America/New_York:20251104T140000
DTSTAMP:20260420T035759
CREATED:20251031T171653Z
LAST-MODIFIED:20251031T171653Z
UID:2124-1762261200-1762264800@poshandpearlstudio.com
SUMMARY:National Candy Day Workshop
DESCRIPTION:🍭 National Candy Day Workshop\nCelebrate National Candy Day at Posh & Pearl Studio with a sweet mix of creativity and fun! \nKids will dive into colorful candy-themed activities like Candy Science experiments\, Painting with Skittles\, Twizzler Jewelry making\, and crafting Lollipop Bouquets to take home. \nIt’s the perfect blend of learning\, creativity\, and sugary imagination.
URL:https://poshandpearlstudio.com/event/national-candy-day-workshop/
LOCATION:Posh & Pearl Studio\, 450 Amwell Rd\, Suite 12\, Hillsborough\, NJ\, 08844\, United States
END:VEVENT
BEGIN:VEVENT
DTSTART;TZID=America/New_York:20251231T113000
DTEND;TZID=America/New_York:20251231T133000
DTSTAMP:20260420T035759
CREATED:20251223T043754Z
LAST-MODIFIED:20251229T062510Z
UID:2141-1767180600-1767187800@poshandpearlstudio.com
SUMMARY:Noon Year's Eve
DESCRIPTION:• Noon Year’s Eve at Posh & Pearl Studio\n• December 31 | 11:30am–1:30pm\n• Ages 4–10\n• $40 per child (includes all activities & snacks) \n✨ All the fun of New Year’s Eve – none of the late night. \nA New Year’s celebration designed just for kids – all the excitement of New Year’s Eve\, without staying up late. \nChildren will celebrate with a balloon drop at “midnight\,” sparkling cider toast\, music and dancing\, NYE crafts\, a DIY mocktail station\, and snacks – all in a fun\, stress-free daytime event parents love.
URL:https://poshandpearlstudio.com/event/noon-years-eve/
LOCATION:Posh & Pearl Studio\, 450 Amwell Rd\, Suite 12\, Hillsborough\, NJ\, 08844\, United States
END:VEVENT
BEGIN:VEVENT
DTSTART;TZID=America/New_York:20260119T120000
DTEND;TZID=America/New_York:20260119T130000
DTSTAMP:20260420T035759
CREATED:20260116T002304Z
LAST-MODIFIED:20260116T002304Z
UID:2215-1768824000-1768827600@poshandpearlstudio.com
SUMMARY:Winter STEM Workshop
DESCRIPTION:Kids are off from school on Monday\, January 19\, so it’s the perfect time to join us for our Winter STEM Workshop! \nAt this hands-on workshop\, kids will explore winter-themed STEM activities that encourage curiosity\, problem-solving\, and creativity\, all in a fun\, age-appropriate setting. \n\nEducational and engaging\nWinter-inspired experiments & activities\nPerfect for kids who love to build\, explore\, and create\n\nA fun and enriching way for kids to spend their day off!
URL:https://poshandpearlstudio.com/event/winter-stem-workshop-2/
LOCATION:Posh & Pearl Studio\, 450 Amwell Rd\, Suite 12\, Hillsborough\, NJ\, 08844\, United States
END:VEVENT
BEGIN:VEVENT
DTSTART;TZID=America/New_York:20260206T180000
DTEND;TZID=America/New_York:20260206T200000
DTSTAMP:20260420T035759
CREATED:20260113T035949Z
LAST-MODIFIED:20260113T035949Z
UID:2195-1770400800-1770408000@poshandpearlstudio.com
SUMMARY:Galentine in Paris
DESCRIPTION:Step into a night inspired by Emily in Paris and treat yourself to an evening of creativity\, laughter\, and Valentine’s fun. This special event is designed for women looking to unwind\, connect\, and enjoy a stylish night out. \nGuests will create chic DIY coasters to use at home\, select blooms from our bouquet bar\, and enjoy a Valentine’s Day–themed game\, along with dessert and snacks. Wine is welcome to bring and enjoy during the event. \nDress to impress or keep it casual — our “Channeling My Inner Emily” dress code is completely optional\, with bold colors and Parisian flair encouraged. \nPlanning to come with a group of 6 or more? Please contact us and we’ll be happy to help you book together.
URL:https://poshandpearlstudio.com/event/galentine-in-paris/
LOCATION:Posh & Pearl Studio\, 450 Amwell Rd\, Suite 12\, Hillsborough\, NJ\, 08844\, United States
END:VEVENT
BEGIN:VEVENT
DTSTART;TZID=America/New_York:20260215T130000
DTEND;TZID=America/New_York:20260215T140000
DTSTAMP:20260420T035759
CREATED:20260211T024722Z
LAST-MODIFIED:20260211T030756Z
UID:2331-1771160400-1771164000@poshandpearlstudio.com
SUMMARY:My Valentine & Me
DESCRIPTION:My Valentine & Me is a special parent-and-child experience designed to celebrate love\, connection\, and quality time together. \nThis sweet and creative workshop invites Dads and daughters and Moms and sons to spend meaningful time side-by-side while creating Valentine-themed memories. You’ll laugh\, create\, and take home beautiful keepsakes to remember the day. \nDuring the workshop\, each pair will enjoy: \n\nCupcake Decorating with festive Valentine toppings\nBouquet Bar to design a fresh floral arrangement together\nValentine’s Crafts & Activities designed for hands-on fun and bonding\n\nThis event is all about slowing down\, being present\, and making memories your child will cherish. \nPerfect for families looking for a heartfelt\, creative way to celebrate Valentine’s Day together. \nEach participant needs their own ticket.
URL:https://poshandpearlstudio.com/event/my-valentine-me/
LOCATION:Posh & Pearl Studio\, 450 Amwell Rd\, Suite 12\, Hillsborough\, NJ\, 08844\, United States
END:VEVENT
BEGIN:VEVENT
DTSTART;TZID=America/New_York:20260315T130000
DTEND;TZID=America/New_York:20260315T140000
DTSTAMP:20260420T035759
CREATED:20260312T033748Z
LAST-MODIFIED:20260312T033748Z
UID:2378-1773579600-1773583200@poshandpearlstudio.com
SUMMARY:St Paddy's Day Workshop
DESCRIPTION:Celebrate St. Patrick’s Day with a fun and creative afternoon at Posh & Pearl Studio! Kids will make glitter lip gloss\, create shamrock suncatchers\, and enjoy festive games and activities.
URL:https://poshandpearlstudio.com/event/st-paddys-day-workshop/
LOCATION:Posh & Pearl Studio\, 450 Amwell Rd\, Suite 12\, Hillsborough\, NJ\, 08844\, United States
END:VEVENT
END:VCALENDAR