BEGIN:VCALENDAR
VERSION:2.0
PRODID:-//Posh - ECPv6.15.15//NONSGML v1.0//EN
CALSCALE:GREGORIAN
METHOD:PUBLISH
X-ORIGINAL-URL:https://poshandpearlstudio.com
X-WR-CALDESC:Events for Posh
REFRESH-INTERVAL;VALUE=DURATION:PT1H
X-Robots-Tag:noindex
X-PUBLISHED-TTL:PT1H
BEGIN:VTIMEZONE
TZID:America/New_York
BEGIN:DAYLIGHT
TZOFFSETFROM:-0500
TZOFFSETTO:-0400
TZNAME:EDT
DTSTART:20240310T070000
END:DAYLIGHT
BEGIN:STANDARD
TZOFFSETFROM:-0400
TZOFFSETTO:-0500
TZNAME:EST
DTSTART:20241103T060000
END:STANDARD
BEGIN:DAYLIGHT
TZOFFSETFROM:-0500
TZOFFSETTO:-0400
TZNAME:EDT
DTSTART:20250309T070000
END:DAYLIGHT
BEGIN:STANDARD
TZOFFSETFROM:-0400
TZOFFSETTO:-0500
TZNAME:EST
DTSTART:20251102T060000
END:STANDARD
BEGIN:DAYLIGHT
TZOFFSETFROM:-0500
TZOFFSETTO:-0400
TZNAME:EDT
DTSTART:20260308T070000
END:DAYLIGHT
BEGIN:STANDARD
TZOFFSETFROM:-0400
TZOFFSETTO:-0500
TZNAME:EST
DTSTART:20261101T060000
END:STANDARD
END:VTIMEZONE
BEGIN:VEVENT
DTSTART;TZID=America/New_York:20250419T110000
DTEND;TZID=America/New_York:20250419T120000
DTSTAMP:20260419T232944
CREATED:20250415T012946Z
LAST-MODIFIED:20250626T210622Z
UID:1693-1745060400-1745064000@poshandpearlstudio.com
SUMMARY:Spring Fling: Bonnets & Bling
DESCRIPTION:Let your little fashionistas design their very own fabulous Easter bonnet — complete with flowers\, pearls\, ribbons\, and sparkle! It’s a day of creativity\, spring vibes\, and girly glam — perfect for your stylish little one to shine.
URL:https://poshandpearlstudio.com/event/spring-fling-bonnets-bling/
CATEGORIES:Easter
END:VEVENT
BEGIN:VEVENT
DTSTART;TZID=America/New_York:20250418T110000
DTEND;TZID=America/New_York:20250418T120000
DTSTAMP:20260419T232944
CREATED:20250415T012913Z
LAST-MODIFIED:20250626T210635Z
UID:1690-1744974000-1744977600@poshandpearlstudio.com
SUMMARY:Egg-cellent Elegance: Garland Workshop
DESCRIPTION:Join us for a glam Easter crafting experience where kids will design their very own sparkling egg garland — perfect for hanging in bedrooms\, playrooms\, or on the mantel! \nUsing pearls\, satin ribbons\, and floral embellishments\, each child will create a one-of-a-kind springtime masterpiece to take home and show off.
URL:https://poshandpearlstudio.com/event/egg-cellent-elegance-garland-workshop/
CATEGORIES:Easter
END:VEVENT
END:VCALENDAR