BEGIN:VCALENDAR
VERSION:2.0
PRODID:-//Posh - ECPv6.15.15//NONSGML v1.0//EN
CALSCALE:GREGORIAN
METHOD:PUBLISH
X-ORIGINAL-URL:https://poshandpearlstudio.com
X-WR-CALDESC:Events for Posh
REFRESH-INTERVAL;VALUE=DURATION:PT1H
X-Robots-Tag:noindex
X-PUBLISHED-TTL:PT1H
BEGIN:VTIMEZONE
TZID:America/New_York
BEGIN:DAYLIGHT
TZOFFSETFROM:-0500
TZOFFSETTO:-0400
TZNAME:EDT
DTSTART:20240310T070000
END:DAYLIGHT
BEGIN:STANDARD
TZOFFSETFROM:-0400
TZOFFSETTO:-0500
TZNAME:EST
DTSTART:20241103T060000
END:STANDARD
BEGIN:DAYLIGHT
TZOFFSETFROM:-0500
TZOFFSETTO:-0400
TZNAME:EDT
DTSTART:20250309T070000
END:DAYLIGHT
BEGIN:STANDARD
TZOFFSETFROM:-0400
TZOFFSETTO:-0500
TZNAME:EST
DTSTART:20251102T060000
END:STANDARD
BEGIN:DAYLIGHT
TZOFFSETFROM:-0500
TZOFFSETTO:-0400
TZNAME:EDT
DTSTART:20260308T070000
END:DAYLIGHT
BEGIN:STANDARD
TZOFFSETFROM:-0400
TZOFFSETTO:-0500
TZNAME:EST
DTSTART:20261101T060000
END:STANDARD
END:VTIMEZONE
BEGIN:VEVENT
DTSTART;TZID=America/New_York:20250718T100000
DTEND;TZID=America/New_York:20250718T110000
DTSTAMP:20260420T004551
CREATED:20250712T065414Z
LAST-MODIFIED:20250712T070158Z
UID:1834-1752832800-1752836400@poshandpearlstudio.com
SUMMARY:Stacked & Styled - Friday
DESCRIPTION:✨ Bracelet-Making Workshop ✨ \nYour mini fashionista is invited to create her own collection of chic\, summer-ready bracelets at our stylish beading experience. In this hands-on workshop\, each guest will design up to 8 custom bracelets using colorful beads\, charms\, and glam accents to match her unique flair. \nFrom bold and playful to sweet and sparkly\, it’s the perfect way to craft a personal stack she’ll be proud to wear all season long. \n💖 Boutique beading bar included📸 Picture-perfect moment for her wristwear debut!
URL:https://poshandpearlstudio.com/event/stacked-styled-friday/
LOCATION:Posh & Pearl Studio\, 450 Amwell Rd\, Suite 12\, Hillsborough\, NJ\, 08844\, United States
CATEGORIES:Summer
END:VEVENT
BEGIN:VEVENT
DTSTART;TZID=America/New_York:20250718T120000
DTEND;TZID=America/New_York:20250718T130000
DTSTAMP:20260420T004551
CREATED:20250712T070520Z
LAST-MODIFIED:20250712T070520Z
UID:1840-1752840000-1752843600@poshandpearlstudio.com
SUMMARY:Sun-Kissed Keepsake - Friday
DESCRIPTION:📸 DIY Memory Frame Workshop \nCelebrate the moments that made this summer magical! Each guest will decorate a beautiful custom photo frame designed to hold their favorite Summer 2025 memory. \nUsing sparkly embellishments\, colorful accents\, and a whole lot of creativity\, kids will create a one-of-a-kind frame to display at home or gift to someone special. It’s more than just a craft\, it’s a keepsake that captures the spirit of summer. \n💖 Take-home memory frame🎀 A thoughtful and creative experience
URL:https://poshandpearlstudio.com/event/sun-kissed-keepsake-friday/
LOCATION:Posh & Pearl Studio\, 450 Amwell Rd\, Suite 12\, Hillsborough\, NJ\, 08844\, United States
CATEGORIES:Summer
END:VEVENT
BEGIN:VEVENT
DTSTART;TZID=America/New_York:20250718T170000
DTEND;TZID=America/New_York:20250718T180000
DTSTAMP:20260420T004551
CREATED:20250712T072059Z
LAST-MODIFIED:20250712T072059Z
UID:1843-1752858000-1752861600@poshandpearlstudio.com
SUMMARY:Mommy & Me in Bloom - Friday
DESCRIPTION:🌸 Vase Painting & Flower Picking Experience \nCelebrate summer and quality time together at Mommy & Me in Bloom\, a fun and floral workshop designed for moms and their little ones to bond over beauty and blooms. \nTogether\, you’ll paint and decorate a ceramic vase\, then head to our mini bloom bar to pick fresh flowers to fill it. Whether you’re crafting a keepsake or simply enjoying a special day out\, this experience is full of love\, laughter\, and lovely memories. \n💐 Perfect for moms\, grandmas\, aunties & daughters📸 A picture-perfect summer moment you’ll both treasure \n👉 If a parent or adult will be decorating alongside the child\, a separate ticket is required for each participant creating a vase.
URL:https://poshandpearlstudio.com/event/mommy-me-in-bloom-friday/
LOCATION:Posh & Pearl Studio\, 450 Amwell Rd\, Suite 12\, Hillsborough\, NJ\, 08844\, United States
CATEGORIES:Summer
END:VEVENT
END:VCALENDAR